BEGIN:VCALENDAR
VERSION:2.0
PRODID:-//America Needs You - ECPv6.15.20//NONSGML v1.0//EN
CALSCALE:GREGORIAN
METHOD:PUBLISH
X-ORIGINAL-URL:https://americaneedsyou.org
X-WR-CALDESC:Events for America Needs You
REFRESH-INTERVAL;VALUE=DURATION:PT1H
X-Robots-Tag:noindex
X-PUBLISHED-TTL:PT1H
BEGIN:VTIMEZONE
TZID:America/Los_Angeles
BEGIN:DAYLIGHT
TZOFFSETFROM:-0800
TZOFFSETTO:-0700
TZNAME:PDT
DTSTART:20220313T100000
END:DAYLIGHT
BEGIN:STANDARD
TZOFFSETFROM:-0700
TZOFFSETTO:-0800
TZNAME:PST
DTSTART:20221106T090000
END:STANDARD
BEGIN:DAYLIGHT
TZOFFSETFROM:-0800
TZOFFSETTO:-0700
TZNAME:PDT
DTSTART:20230312T100000
END:DAYLIGHT
BEGIN:STANDARD
TZOFFSETFROM:-0700
TZOFFSETTO:-0800
TZNAME:PST
DTSTART:20231105T090000
END:STANDARD
BEGIN:DAYLIGHT
TZOFFSETFROM:-0800
TZOFFSETTO:-0700
TZNAME:PDT
DTSTART:20240310T100000
END:DAYLIGHT
BEGIN:STANDARD
TZOFFSETFROM:-0700
TZOFFSETTO:-0800
TZNAME:PST
DTSTART:20241103T090000
END:STANDARD
END:VTIMEZONE
BEGIN:VTIMEZONE
TZID:America/Chicago
BEGIN:DAYLIGHT
TZOFFSETFROM:-0600
TZOFFSETTO:-0500
TZNAME:CDT
DTSTART:20220313T080000
END:DAYLIGHT
BEGIN:STANDARD
TZOFFSETFROM:-0500
TZOFFSETTO:-0600
TZNAME:CST
DTSTART:20221106T070000
END:STANDARD
BEGIN:DAYLIGHT
TZOFFSETFROM:-0600
TZOFFSETTO:-0500
TZNAME:CDT
DTSTART:20230312T080000
END:DAYLIGHT
BEGIN:STANDARD
TZOFFSETFROM:-0500
TZOFFSETTO:-0600
TZNAME:CST
DTSTART:20231105T070000
END:STANDARD
BEGIN:DAYLIGHT
TZOFFSETFROM:-0600
TZOFFSETTO:-0500
TZNAME:CDT
DTSTART:20240310T080000
END:DAYLIGHT
BEGIN:STANDARD
TZOFFSETFROM:-0500
TZOFFSETTO:-0600
TZNAME:CST
DTSTART:20241103T070000
END:STANDARD
END:VTIMEZONE
BEGIN:VTIMEZONE
TZID:America/New_York
BEGIN:DAYLIGHT
TZOFFSETFROM:-0500
TZOFFSETTO:-0400
TZNAME:EDT
DTSTART:20220313T070000
END:DAYLIGHT
BEGIN:STANDARD
TZOFFSETFROM:-0400
TZOFFSETTO:-0500
TZNAME:EST
DTSTART:20221106T060000
END:STANDARD
BEGIN:DAYLIGHT
TZOFFSETFROM:-0500
TZOFFSETTO:-0400
TZNAME:EDT
DTSTART:20230312T070000
END:DAYLIGHT
BEGIN:STANDARD
TZOFFSETFROM:-0400
TZOFFSETTO:-0500
TZNAME:EST
DTSTART:20231105T060000
END:STANDARD
BEGIN:DAYLIGHT
TZOFFSETFROM:-0500
TZOFFSETTO:-0400
TZNAME:EDT
DTSTART:20240310T070000
END:DAYLIGHT
BEGIN:STANDARD
TZOFFSETFROM:-0400
TZOFFSETTO:-0500
TZNAME:EST
DTSTART:20241103T060000
END:STANDARD
END:VTIMEZONE
BEGIN:VEVENT
DTSTART;TZID=America/Los_Angeles:20230311T093000
DTEND;TZID=America/Los_Angeles:20230311T150000
DTSTAMP:20260420T162009
CREATED:20220801T202144Z
LAST-MODIFIED:20230127T215912Z
UID:10000186-1678527000-1678546800@americaneedsyou.org
SUMMARY:California Workshop
DESCRIPTION:Communication Skills: Writing\, Listening\, Speaking in the Workplace (Year 1)\nLife After College (Year 2)\n\nVolunteers will provide valuable insight and expertise from their own personal and professional experiences. Orientation will be provided at the beginning of the day. \nTo attend this workshop as a volunteer\, create a volunteer profile and then select from the list under the “volunteer opportunities” tab.
URL:https://americaneedsyou.org/event/california-workshop-in-person-8/
LOCATION:Downtown Los Angeles\, Los Angeles\, CA\, United States
CATEGORIES:All Events,Fellows Events,Volunteer Events
ATTACH;FMTTYPE=image/jpeg:https://americaneedsyou.org/wp-content/uploads/2022/08/CA-Workshop-3.jpg
END:VEVENT
BEGIN:VEVENT
DTSTART;TZID=America/Chicago:20230311T093000
DTEND;TZID=America/Chicago:20230311T150000
DTSTAMP:20260420T162009
CREATED:20220801T202418Z
LAST-MODIFIED:20230127T213702Z
UID:10000188-1678527000-1678546800@americaneedsyou.org
SUMMARY:Illinois Workshop
DESCRIPTION:Communication Skills: Writing\, Listening\, Speaking in the Workplace (Year 1)\nLife After College (Year 2)\n\nVolunteers will provide valuable insight and expertise from their own personal and professional experiences. Orientation will be provided at the beginning of the day. \nTo attend this workshop as a volunteer\, create a volunteer profile and then select from the list under the “volunteer opportunities” tab.
URL:https://americaneedsyou.org/event/illinois-workshop-in-person-7/
LOCATION:Chicago\, Chicago\, IL\, United States
CATEGORIES:All Events,Fellows Events,Volunteer Events
ATTACH;FMTTYPE=image/jpeg:https://americaneedsyou.org/wp-content/uploads/2022/07/zIMG_8105.jpg
END:VEVENT
BEGIN:VEVENT
DTSTART;TZID=America/New_York:20230311T093000
DTEND;TZID=America/New_York:20230311T150000
DTSTAMP:20260420T162009
CREATED:20220801T202530Z
LAST-MODIFIED:20230127T220210Z
UID:10000189-1678527000-1678546800@americaneedsyou.org
SUMMARY:New Jersey Workshop
DESCRIPTION:Communication Skills: Writing\, Listening\, Speaking in the Workplace (Year 1)\nLife After College (Year 2)\n\nVolunteers will provide valuable insight and expertise from their own personal and professional experiences. Orientation will be provided at the beginning of the day. \nTo attend this workshop as a volunteer\, create a volunteer profile and then select from the list under the “volunteer opportunities” tab.
URL:https://americaneedsyou.org/event/new-jersey-workshop-in-person-8/
CATEGORIES:All Events,Fellows Events,Volunteer Events
ATTACH;FMTTYPE=image/jpeg:https://americaneedsyou.org/wp-content/uploads/2022/07/NJ_Marketing.jpg
END:VEVENT
BEGIN:VEVENT
DTSTART;TZID=America/New_York:20230311T093000
DTEND;TZID=America/New_York:20230311T150000
DTSTAMP:20260420T162009
CREATED:20220801T202637Z
LAST-MODIFIED:20230127T214610Z
UID:10000191-1678527000-1678546800@americaneedsyou.org
SUMMARY:New York Workshop
DESCRIPTION:Communication Skills: Writing\, Listening\, Speaking in the Workplace (Year 1)\nLife After College (Year 2)\n\nVolunteers will provide valuable insight and expertise from their own personal and professional experiences. Orientation will be provided at the beginning of the day. \nTo attend this workshop as a volunteer\, create a volunteer profile and then select from the list under the “volunteer opportunities” tab.
URL:https://americaneedsyou.org/event/new-york-workshop-in-person-8/
LOCATION:New York City\, New York\, NY\, United States
CATEGORIES:All Events,Fellows Events,Volunteer Events
ATTACH;FMTTYPE=image/jpeg:https://americaneedsyou.org/wp-content/uploads/2022/07/SAJ7509.jpg
END:VEVENT
END:VCALENDAR