BEGIN:VCALENDAR
VERSION:2.0
PRODID:-//America Needs You - ECPv6.15.20//NONSGML v1.0//EN
CALSCALE:GREGORIAN
METHOD:PUBLISH
X-WR-CALNAME:America Needs You
X-ORIGINAL-URL:https://americaneedsyou.org
X-WR-CALDESC:Events for America Needs You
REFRESH-INTERVAL;VALUE=DURATION:PT1H
X-Robots-Tag:noindex
X-PUBLISHED-TTL:PT1H
BEGIN:VTIMEZONE
TZID:America/New_York
BEGIN:DAYLIGHT
TZOFFSETFROM:-0500
TZOFFSETTO:-0400
TZNAME:EDT
DTSTART:20230312T070000
END:DAYLIGHT
BEGIN:STANDARD
TZOFFSETFROM:-0400
TZOFFSETTO:-0500
TZNAME:EST
DTSTART:20231105T060000
END:STANDARD
BEGIN:DAYLIGHT
TZOFFSETFROM:-0500
TZOFFSETTO:-0400
TZNAME:EDT
DTSTART:20240310T070000
END:DAYLIGHT
BEGIN:STANDARD
TZOFFSETFROM:-0400
TZOFFSETTO:-0500
TZNAME:EST
DTSTART:20241103T060000
END:STANDARD
BEGIN:DAYLIGHT
TZOFFSETFROM:-0500
TZOFFSETTO:-0400
TZNAME:EDT
DTSTART:20250309T070000
END:DAYLIGHT
BEGIN:STANDARD
TZOFFSETFROM:-0400
TZOFFSETTO:-0500
TZNAME:EST
DTSTART:20251102T060000
END:STANDARD
END:VTIMEZONE
BEGIN:VEVENT
DTSTART;TZID=America/New_York:20240418T190000
DTEND;TZID=America/New_York:20240418T220000
DTSTAMP:20260421T135125
CREATED:20240109T174943Z
LAST-MODIFIED:20240116T183824Z
UID:10000362-1713466800-1713477600@americaneedsyou.org
SUMMARY:2024 ANY-NY Spring Benefit
DESCRIPTION:You are invited to a cocktail fundraiser and networking event benefitting America Needs You hosted by the ANY-NY Advisory and Associate Boards! Support our future leaders and help America Needs You create a brighter future for first-generation college students in New York. \nCheck out our event page for more details and to buy tickets. \nQuestions? Reach out to Melisa Vallovera at melisa.vallovera@americaneedsyou.org. \n 
URL:https://americaneedsyou.org/event/2024-any-ny-spring-benefit/
LOCATION:TAO Downtown\, 369 W 16th St\, New York\, NY
CATEGORIES:Fundraising Events
ATTACH;FMTTYPE=image/png:https://americaneedsyou.org/wp-content/uploads/2024/01/NY-Spring-Benefit-Invite.png
END:VEVENT
END:VCALENDAR