BEGIN:VCALENDAR
VERSION:2.0
PRODID:-//America Needs You - ECPv6.15.20//NONSGML v1.0//EN
CALSCALE:GREGORIAN
METHOD:PUBLISH
X-ORIGINAL-URL:https://americaneedsyou.org
X-WR-CALDESC:Events for America Needs You
REFRESH-INTERVAL;VALUE=DURATION:PT1H
X-Robots-Tag:noindex
X-PUBLISHED-TTL:PT1H
BEGIN:VTIMEZONE
TZID:America/New_York
BEGIN:DAYLIGHT
TZOFFSETFROM:-0500
TZOFFSETTO:-0400
TZNAME:EDT
DTSTART:20230312T070000
END:DAYLIGHT
BEGIN:STANDARD
TZOFFSETFROM:-0400
TZOFFSETTO:-0500
TZNAME:EST
DTSTART:20231105T060000
END:STANDARD
BEGIN:DAYLIGHT
TZOFFSETFROM:-0500
TZOFFSETTO:-0400
TZNAME:EDT
DTSTART:20240310T070000
END:DAYLIGHT
BEGIN:STANDARD
TZOFFSETFROM:-0400
TZOFFSETTO:-0500
TZNAME:EST
DTSTART:20241103T060000
END:STANDARD
BEGIN:DAYLIGHT
TZOFFSETFROM:-0500
TZOFFSETTO:-0400
TZNAME:EDT
DTSTART:20250309T070000
END:DAYLIGHT
BEGIN:STANDARD
TZOFFSETFROM:-0400
TZOFFSETTO:-0500
TZNAME:EST
DTSTART:20251102T060000
END:STANDARD
END:VTIMEZONE
BEGIN:VEVENT
DTSTART;TZID=America/New_York:20240502T190000
DTEND;TZID=America/New_York:20240502T220000
DTSTAMP:20260421T172039
CREATED:20240215T195121Z
LAST-MODIFIED:20240215T195121Z
UID:10000370-1714676400-1714687200@americaneedsyou.org
SUMMARY:2024 ANY-NJ Spring Party
DESCRIPTION:You are invited to a cocktail fundraiser and networking event benefitting America Needs You hosted by the ANY-NJ Advisory and Associate Boards! Support our future leaders and help America Needs You create a brighter future for first-generation college students in New Jersey. \nCheck out our event page for more details and to buy tickets. \nQuestions? Reach out to Melisa Vallovera at melisa.vallovera@americaneedsyou.org. \n 
URL:https://americaneedsyou.org/event/2024-any-nj-spring-party/
LOCATION:Battello\, 502 Washington Boulevard\, Jersey City\, NJ
CATEGORIES:Fundraising Events
ATTACH;FMTTYPE=image/png:https://americaneedsyou.org/wp-content/uploads/2024/02/NJ-Spring-Party-Invite.png
END:VEVENT
END:VCALENDAR